BEGIN:VCALENDAR
VERSION:2.0
PRODID:-//City of Pikeville, KY - ECPv6.15.20//NONSGML v1.0//EN
CALSCALE:GREGORIAN
METHOD:PUBLISH
X-ORIGINAL-URL:https://pikevilleky.gov
X-WR-CALDESC:Events for City of Pikeville, KY
REFRESH-INTERVAL;VALUE=DURATION:PT1H
X-Robots-Tag:noindex
X-PUBLISHED-TTL:PT1H
BEGIN:VTIMEZONE
TZID:America/Kentucky/Louisville
BEGIN:DAYLIGHT
TZOFFSETFROM:-0500
TZOFFSETTO:-0400
TZNAME:EDT
DTSTART:20220313T070000
END:DAYLIGHT
BEGIN:STANDARD
TZOFFSETFROM:-0400
TZOFFSETTO:-0500
TZNAME:EST
DTSTART:20221106T060000
END:STANDARD
BEGIN:DAYLIGHT
TZOFFSETFROM:-0500
TZOFFSETTO:-0400
TZNAME:EDT
DTSTART:20230312T070000
END:DAYLIGHT
BEGIN:STANDARD
TZOFFSETFROM:-0400
TZOFFSETTO:-0500
TZNAME:EST
DTSTART:20231105T060000
END:STANDARD
BEGIN:DAYLIGHT
TZOFFSETFROM:-0500
TZOFFSETTO:-0400
TZNAME:EDT
DTSTART:20240310T070000
END:DAYLIGHT
BEGIN:STANDARD
TZOFFSETFROM:-0400
TZOFFSETTO:-0500
TZNAME:EST
DTSTART:20241103T060000
END:STANDARD
END:VTIMEZONE
BEGIN:VEVENT
DTSTART;TZID=America/Kentucky/Louisville:20230415T090000
DTEND;TZID=America/Kentucky/Louisville:20230415T120000
DTSTAMP:20260419T141233
CREATED:20230123T183937Z
LAST-MODIFIED:20230327T172426Z
UID:10002693-1681549200-1681560000@pikevilleky.gov
SUMMARY:Run with Courage
DESCRIPTION:The Annual 5K Run/1 Mile Walk for Judi’s Place for Kids is back!!! \nPrizes/ Opportunities: \nCustom event medal and T-shirt included in registration fee!\nMost money raised (individual and team) – Set up your fundraising goal through runsignup.com\, with options to promote through Facebook and other social media. Your fundraising helps make the world brighter for abused and neglected children. It’s easy to ask your family and friends to help you meet your goal. Consider adding a donation of your own when you register.\nCostume contests: The Run with Courage is still superhero themed! This year’s shirt and medal feature will be designed by a local student within our 5 county service area. Everyone who helps a child is a superhero\, and the children who are survivors of abuse are also heroes! Watch social media for details on how to submit your entries for individual\, team\, and pet categories. \nRegistration fee: $30. This price helps us cover the cost of the t-shirts for all participants as well as race timers\, bibs\, pins and everything else needed to make sure we have a successful race!\nRegistration by March 24th will guarantee a t-shirt. On-site registration will be available at 7:00am the day of the event. Limited t-shirts will be available for those signing up after March 24th including the day of the event. \nTo celebrate children in our community and build commitment to the fight against child abuse\, we encourage everyone to participate and to wear superhero costumes to show your support for children facing abuse. All proceeds from the race will benefit Judi’s Place for Kids to continue providing services that promote safety and justice\, hope\, and healing for children who have been victims of abuse. Judi’s Place for Kids offers forensic interviews\, victim advocacy\, medical care\, mental health therapy\, and public education. Learn more about our services at www.JudisPlace.org. \nRace Contact Info\nIf you have any questions about this race\, please contact the race director at kalen.richmond@ky.gov
URL:https://pikevilleky.gov/event-page/2022-run-with-courage/
CATEGORIES:Southeast Kentucky Chamber
ATTACH;FMTTYPE=image/jpeg:https://eadn-wc01-5677225.nxedge.io/wp-content/uploads/2023/01/run-with-courage.jpeg
END:VEVENT
BEGIN:VEVENT
DTSTART;TZID=America/Kentucky/Louisville:20230415T120000
DTEND;TZID=America/Kentucky/Louisville:20230415T140000
DTSTAMP:20260419T141233
CREATED:20221114T182747Z
LAST-MODIFIED:20221114T182747Z
UID:10002459-1681560000-1681567200@pikevilleky.gov
SUMMARY:Baseball vs Georgetown University
DESCRIPTION:Game Day!
URL:https://pikevilleky.gov/event-page/baseball-vs-georgetown-university-2/
CATEGORIES:UPike
ATTACH;FMTTYPE=image/png:https://eadn-wc01-5677225.nxedge.io/wp-content/uploads/2022/11/Screen-Shot-2022-11-14-at-10.09.02-AM-1.png
END:VEVENT
BEGIN:VEVENT
DTSTART;TZID=America/Kentucky/Louisville:20230415T120000
DTEND;TZID=America/Kentucky/Louisville:20230415T160000
DTSTAMP:20260419T141233
CREATED:20230327T191318Z
LAST-MODIFIED:20230327T191318Z
UID:10002875-1681560000-1681574400@pikevilleky.gov
SUMMARY:Kids Day in the Park
DESCRIPTION:Hey y’all! It’s that time of year again. April is Child Abuse Prevention Month! This April\, the Department for Protection and Permanency is hosting our annual “Kids Day in the Park”. Our office hasn’t been able to have the event due to covid the past couple of years so we are excited to be bringing it back this year! Join us on April 15th\, in the Pikeville City Park for a day full of food\, games\, prizes\, and more! This event is for all families and kids in Pike county or surrounding areas.\n*This event will follow directly after the Judi’s Place for Kids 5K that morning.*\nWe will have:\n✨Cake walk\n✨Pie in the face with a first responder\n✨Small carnival like games & more!\nPrizes will include:\n✨Photography sessions\n✨Tickets to see Blippi live at the Appalachian Wireless Arena\n✨Bicycles\n✨Toys and many more!
URL:https://pikevilleky.gov/event-page/kids-day-in-the-park/
CATEGORIES:Southeast Kentucky Chamber
ATTACH;FMTTYPE=image/jpeg:https://eadn-wc01-5677225.nxedge.io/wp-content/uploads/2023/03/kids-day.jpeg
END:VEVENT
BEGIN:VEVENT
DTSTART;TZID=America/Kentucky/Louisville:20230415T140000
DTEND;TZID=America/Kentucky/Louisville:20230415T150000
DTSTAMP:20260419T141233
CREATED:20230109T182142Z
LAST-MODIFIED:20230116T151553Z
UID:10002651-1681567200-1681570800@pikevilleky.gov
SUMMARY:Softball vs Thomas More University
DESCRIPTION:Game Day!
URL:https://pikevilleky.gov/event-page/softball-vs-thomas-more-university-3-2-2-2/
CATEGORIES:UPike
ATTACH;FMTTYPE=:
END:VEVENT
BEGIN:VEVENT
DTSTART;TZID=America/Kentucky/Louisville:20230415T140000
DTEND;TZID=America/Kentucky/Louisville:20230415T150000
DTSTAMP:20260419T141233
CREATED:20230116T184956Z
LAST-MODIFIED:20230116T184956Z
UID:10002673-1681567200-1681570800@pikevilleky.gov
SUMMARY:Softball vs Thomas More University
DESCRIPTION:Game Day!
URL:https://pikevilleky.gov/event-page/softball-vs-thomas-more-university/
CATEGORIES:UPike
ATTACH;FMTTYPE=image/png:https://eadn-wc01-5677225.nxedge.io/wp-content/uploads/2023/01/Screen-Shot-2023-01-09-at-11.10.40-AM-3.png
END:VEVENT
BEGIN:VEVENT
DTSTART;TZID=America/Kentucky/Louisville:20230415T150000
DTEND;TZID=America/Kentucky/Louisville:20230415T170000
DTSTAMP:20260419T141233
CREATED:20221114T182631Z
LAST-MODIFIED:20221114T184610Z
UID:10002460-1681570800-1681578000@pikevilleky.gov
SUMMARY:Baseball vs Georgetown University
DESCRIPTION:Game Day!
URL:https://pikevilleky.gov/event-page/baseball-vs-georgetown-university/
LOCATION:Johnnie LeMaster Field\, 118 W River Dr\,\, Pikeville\, KY\, 41501\, United States
CATEGORIES:UPike
ATTACH;FMTTYPE=image/png:https://eadn-wc01-5677225.nxedge.io/wp-content/uploads/2022/11/Screen-Shot-2022-11-14-at-10.09.02-AM-2.png
END:VEVENT
BEGIN:VEVENT
DTSTART;TZID=America/Kentucky/Louisville:20230415T180000
DTEND;TZID=America/Kentucky/Louisville:20230415T210000
DTSTAMP:20260419T141233
CREATED:20230410T183127Z
LAST-MODIFIED:20230410T183127Z
UID:10002908-1681581600-1681592400@pikevilleky.gov
SUMMARY:Street Taco Saturday
DESCRIPTION:Enjoy good food\, music\, and vibes this Saturday at Lincoln Road!
URL:https://pikevilleky.gov/event-page/street-taco-saturday/
ATTACH;FMTTYPE=image/jpeg:https://eadn-wc01-5677225.nxedge.io/wp-content/uploads/2023/04/340549782_210025048338037_987296915618170606_n.jpg
END:VEVENT
BEGIN:VEVENT
DTSTART;TZID=America/Kentucky/Louisville:20230415T190000
DTEND;TZID=America/Kentucky/Louisville:20230415T210000
DTSTAMP:20260419T141233
CREATED:20230403T153102Z
LAST-MODIFIED:20230403T153102Z
UID:10002888-1681585200-1681592400@pikevilleky.gov
SUMMARY:Improv at The APP: Peach Bombs and The UPIKE Rock Band
DESCRIPTION:
URL:https://pikevilleky.gov/event-page/improv-at-the-app-peach-bombs-and-the-upike-rock-band/
ATTACH;FMTTYPE=image/jpeg:https://eadn-wc01-5677225.nxedge.io/wp-content/uploads/2023/04/338663182_750809520084078_3392441526063701286_n.jpg
END:VEVENT
BEGIN:VEVENT
DTSTART;TZID=America/Kentucky/Louisville:20230418T153000
DTEND;TZID=America/Kentucky/Louisville:20230418T170000
DTSTAMP:20260419T141233
CREATED:20230403T151622Z
LAST-MODIFIED:20230403T151622Z
UID:10002889-1681831800-1681837200@pikevilleky.gov
SUMMARY:Cancer Survivorship Group
DESCRIPTION:Current and past oncology patients provide support to one another during treatment and during recovery. APRN Darlene Ellis gives education on screenings\, early detection\, tips for a healthy lifestyle and more.
URL:https://pikevilleky.gov/event-page/cancer-survivorship-group/
ATTACH;FMTTYPE=image/png:https://eadn-wc01-5677225.nxedge.io/wp-content/uploads/2023/04/Cancer-Survivorship-Social-Media.png
END:VEVENT
BEGIN:VEVENT
DTSTART;TZID=America/Kentucky/Louisville:20230418T170000
DTEND;TZID=America/Kentucky/Louisville:20230418T190000
DTSTAMP:20260419T141233
CREATED:20230403T152002Z
LAST-MODIFIED:20230403T152002Z
UID:10002890-1681837200-1681844400@pikevilleky.gov
SUMMARY:Reclaim Your Life Seminar
DESCRIPTION:Those considering weight loss surgery\, or those who have a surgery date scheduled are encouraged to attend seminar and support group. Discuss lifestyle changes and process of recovery to aid in a better quality of life. Speak with Bariatric Program Coordinator and special guests (including Dr. Johnson!) Patients involved in support groups have a higher degree of success on average than those that don’t participate.
URL:https://pikevilleky.gov/event-page/reclaim-your-life-seminar-4/
ATTACH;FMTTYPE=image/jpeg:https://eadn-wc01-5677225.nxedge.io/wp-content/uploads/2023/04/Reclaim-Your-Life-Group-Social-Media.jpg
END:VEVENT
BEGIN:VEVENT
DTSTART;TZID=America/Kentucky/Louisville:20230419T090000
DTEND;TZID=America/Kentucky/Louisville:20230419T100000
DTSTAMP:20260419T141233
CREATED:20230313T160109Z
LAST-MODIFIED:20230313T160109Z
UID:10002834-1681894800-1681898400@pikevilleky.gov
SUMMARY:Adult Literacy Class
DESCRIPTION:Develop basic literacy skills in this class at the Pike County Public Library (Lee Avenue). Meets every Wednesday at 9:00 AM.
URL:https://pikevilleky.gov/event-page/adult-literacy-class-27/
CATEGORIES:Pike County Public Library
ATTACH;FMTTYPE=image/jpeg:https://eadn-wc01-5677225.nxedge.io/wp-content/uploads/2023/03/adult_literacy-5.jpeg
END:VEVENT
BEGIN:VEVENT
DTSTART;TZID=America/Kentucky/Louisville:20230419T103000
DTEND;TZID=America/Kentucky/Louisville:20230419T113000
DTSTAMP:20260419T141233
CREATED:20230313T155945Z
LAST-MODIFIED:20230313T155945Z
UID:10002835-1681900200-1681903800@pikevilleky.gov
SUMMARY:TECH DAYS: BASIC COMPUTER SKILLS
DESCRIPTION:Learn basic computer skills at the Pike County Public Library! \nClasses are offered every Wednesday at 10:30 and will cover email\, phones\, tablets\, tech lingo\, resume and flyer creation\, and more.
URL:https://pikevilleky.gov/event-page/tech-days-basic-computer-skills-7/
CATEGORIES:Pike County Public Library
ATTACH;FMTTYPE=image/png:https://eadn-wc01-5677225.nxedge.io/wp-content/uploads/2023/03/basic-computer-skills-5.png
END:VEVENT
BEGIN:VEVENT
DTSTART;TZID=America/Kentucky/Louisville:20230419T110000
DTEND;TZID=America/Kentucky/Louisville:20230419T130000
DTSTAMP:20260419T141233
CREATED:20230418T173446Z
LAST-MODIFIED:20230418T173446Z
UID:10002946-1681902000-1681909200@pikevilleky.gov
SUMMARY:Coleman College of Business Leadership Series April 19
DESCRIPTION:The University of Pikeville’s Coleman College of Business will host a Speaker and Leadership Series event on Wednesday\, April 19\, at 11 a.m. in Booth Auditorium. UPIKE alumnus and Federal Bureau of Investigation (FBI) Special Agent Matthew DeBlauw will serve as the featured guest speaker with his presentation\, “The Value of a College Degree: How Pikeville College Shaped my Career and Life.” \nDeBlauw graduated from Pikeville College in 2008\, where he played baseball. He pursued his passion for numbers and earned his Certified Public Accountant license\, which helped him excel in his current profession. \nUpon completing his education\, DeBlauw spent a short time in public accounting before beginning his career with the FBI as a Special Agent\, where he has worked for more than 11 years. DeBlauw has specialized in public corruption matters during his tenure\, serving as a valuable member of the FBI team that investigates and prosecutes corrupt public officials. As a collateral duty\, he spends time overseas providing corruption training to the FBI’s international law enforcement partners. \nThe campus and the community are cordially invited to attend the April 19 event. For more information\, contact Brenda Maynard\, associate professor of business\, at (606) 218-5005 or brendamaynard@upike.edu.
URL:https://pikevilleky.gov/event-page/coleman-college-of-business-leadership-series-april-19/
LOCATION:Customer-Service-Job-Description
CATEGORIES:UPike
ATTACH;FMTTYPE=image/png:https://eadn-wc01-5677225.nxedge.io/wp-content/uploads/2023/04/Screen-Shot-2023-04-18-at-11.23.13-AM.png
END:VEVENT
BEGIN:VEVENT
DTSTART;TZID=America/Kentucky/Louisville:20230419T160000
DTEND;TZID=America/Kentucky/Louisville:20230419T173000
DTSTAMP:20260419T141233
CREATED:20230327T191058Z
LAST-MODIFIED:20230327T191058Z
UID:10002876-1681920000-1681925400@pikevilleky.gov
SUMMARY:Teen Five Nights at Freddy’s 3D Model Build
DESCRIPTION:Build a 3D model of the game layout of Five Nights at Freddy’s at the Pike County Public Library (Lee Avenue). For ages 12-18\, meets alternating Wednesdays at 4:00 on April 5 & 19 and May 3 & 17.
URL:https://pikevilleky.gov/event-page/teen-five-nights-at-freddys-3d-model-build-3/
CATEGORIES:Pike County Public Library
ATTACH;FMTTYPE=image/jpeg:https://eadn-wc01-5677225.nxedge.io/wp-content/uploads/2023/03/3d-model-1.jpeg
END:VEVENT
BEGIN:VEVENT
DTSTART;TZID=America/Kentucky/Louisville:20230420T100000
DTEND;TZID=America/Kentucky/Louisville:20230422T200000
DTSTAMP:20260419T141233
CREATED:20230116T184810Z
LAST-MODIFIED:20230116T184810Z
UID:10002674-1681984800-1682193600@pikevilleky.gov
SUMMARY:Hillbilly Days 2023
DESCRIPTION:We are so excited about this year’s festival! Visit hillbillydays.com for information on the festival and how to book vending spots.
URL:https://pikevilleky.gov/event-page/hillbilly-days-2023/
CATEGORIES:Southeast Kentucky Chamber
ATTACH;FMTTYPE=image/jpeg:https://eadn-wc01-5677225.nxedge.io/wp-content/uploads/2023/01/hillbilly-days.jpeg
END:VEVENT
BEGIN:VEVENT
DTSTART;TZID=America/Kentucky/Louisville:20230420T150000
DTEND;TZID=America/Kentucky/Louisville:20230420T220000
DTSTAMP:20260419T141233
CREATED:20230306T181829Z
LAST-MODIFIED:20230306T181829Z
UID:10002814-1682002800-1682028000@pikevilleky.gov
SUMMARY:Hillbilly Days music at the Mountain Top Media stage
DESCRIPTION:We’re getting excited for another great year of Hillbilly Days music at the Mountain Top Media stage thanks to our friends at BT Media Group.\n#visitpikeville\n#hillbillydays2023\n#BtMediaGroup
URL:https://pikevilleky.gov/event-page/hillbilly-days-music-at-the-mountain-top-media-stage-3/
CATEGORIES:Mountain Top Media,Pikeville Tourism
ATTACH;FMTTYPE=image/jpeg:https://eadn-wc01-5677225.nxedge.io/wp-content/uploads/2023/03/hillbillydays-mountain-top.jpeg
END:VEVENT
BEGIN:VEVENT
DTSTART;TZID=America/Kentucky/Louisville:20230420T170000
DTEND;TZID=America/Kentucky/Louisville:20230420T180000
DTSTAMP:20260419T141233
CREATED:20230320T172114Z
LAST-MODIFIED:20230320T172114Z
UID:10002867-1682010000-1682013600@pikevilleky.gov
SUMMARY:Mozzarella Cheese Making Workshop
DESCRIPTION:Learn how to make mozzarella cheese at the Pike County Public Library (Lee Avenue) on Thursday\, April 20 at 5:00! This workshop is done in partnership with the UK Pike County Extension Office. Space is limited\, registration is required\, and all materials are provided.\nPlease call the library at 606-437-6001 to register.
URL:https://pikevilleky.gov/event-page/mozzarella-cheese-making-workshop/
CATEGORIES:Pike County Public Library
ATTACH;FMTTYPE=image/jpeg:https://eadn-wc01-5677225.nxedge.io/wp-content/uploads/2023/03/cheese.jpeg
END:VEVENT
BEGIN:VEVENT
DTSTART;TZID=America/Kentucky/Louisville:20230420T190000
DTEND;TZID=America/Kentucky/Louisville:20230420T210000
DTSTAMP:20260419T141233
CREATED:20230410T182947Z
LAST-MODIFIED:20230410T182947Z
UID:10002909-1682017200-1682024400@pikevilleky.gov
SUMMARY:Trivia at Broken Throne
DESCRIPTION:TRIVIA NIGHT\nDon’t forget every THURSDAY is TRIVIA NIGHT!\nGather your team and come on down!
URL:https://pikevilleky.gov/event-page/trivia-at-broken-throne-6/
LOCATION:Pikeville Established 1824
ATTACH;FMTTYPE=image/jpeg:https://eadn-wc01-5677225.nxedge.io/wp-content/uploads/2023/04/339099324_616216809910003_9058825389329295090_n-1.jpg
END:VEVENT
BEGIN:VEVENT
DTSTART;TZID=America/Kentucky/Louisville:20230421T130000
DTEND;TZID=America/Kentucky/Louisville:20230421T140000
DTSTAMP:20260419T141233
CREATED:20230418T173345Z
LAST-MODIFIED:20230418T173345Z
UID:10002947-1682082000-1682085600@pikevilleky.gov
SUMMARY:Hillbilly Days 2023 Lumberjack Show
DESCRIPTION:The great Lakes Lumberjack show features chainsaw carving\, axe throwing\, wood chopping\, one and two man cross-cut sawing\, modified chainsawing\, log rolling and lots of clean family humor.
URL:https://pikevilleky.gov/event-page/hillbilly-days-2023-lumberjack-show-6/
CATEGORIES:Pikeville Tourism,Southeast Kentucky Chamber
ATTACH;FMTTYPE=image/jpeg:https://eadn-wc01-5677225.nxedge.io/wp-content/uploads/2023/04/lumberjack.jpeg
END:VEVENT
BEGIN:VEVENT
DTSTART;TZID=America/Kentucky/Louisville:20230421T140000
DTEND;TZID=America/Kentucky/Louisville:20230421T220000
DTSTAMP:20260419T141233
CREATED:20230306T181744Z
LAST-MODIFIED:20230306T181744Z
UID:10002815-1682085600-1682114400@pikevilleky.gov
SUMMARY:Hillbilly Days music at the Mountain Top Media stage
DESCRIPTION:We’re getting excited for another great year of Hillbilly Days music at the Mountain Top Media stage thanks to our friends at BT Media Group.\n#visitpikeville\n#hillbillydays2023\n#BtMediaGroup
URL:https://pikevilleky.gov/event-page/hillbilly-days-music-at-the-mountain-top-media-stage-2/
CATEGORIES:Mountain Top Media,Pikeville Tourism
ATTACH;FMTTYPE=image/jpeg:https://eadn-wc01-5677225.nxedge.io/wp-content/uploads/2023/03/hillbillydays-mountain-top-1.jpeg
END:VEVENT
BEGIN:VEVENT
DTSTART;TZID=America/Kentucky/Louisville:20230421T150000
DTEND;TZID=America/Kentucky/Louisville:20230421T170000
DTSTAMP:20260419T141233
CREATED:20230109T181841Z
LAST-MODIFIED:20230109T181841Z
UID:10002652-1682089200-1682096400@pikevilleky.gov
SUMMARY:Genealogy Group
DESCRIPTION:Pike County Public Library’s Genealogy Group meets the 1st & 3rd Friday of each month to share family history and family trees\, photographs\, and research.\nMeetings are held from 3:00-5:00 in the Genealogy Room (second floor) of the Lee Avenue library.\nFor more information\, please contact Charlene at charlene@pikelibrary.org
URL:https://pikevilleky.gov/event-page/genealogy-group-33/
CATEGORIES:Pike County Public Library
ATTACH;FMTTYPE=image/jpeg:https://eadn-wc01-5677225.nxedge.io/wp-content/uploads/2023/01/genealogy-5.jpeg
END:VEVENT
BEGIN:VEVENT
DTSTART;TZID=America/Kentucky/Louisville:20230421T160000
DTEND;TZID=America/Kentucky/Louisville:20230421T170000
DTSTAMP:20260419T141233
CREATED:20230418T173309Z
LAST-MODIFIED:20230418T173309Z
UID:10002948-1682092800-1682096400@pikevilleky.gov
SUMMARY:Hillbilly Days 2023 Lumberjack Show
DESCRIPTION:The great Lakes Lumberjack show features chainsaw carving\, axe throwing\, wood chopping\, one and two man cross-cut sawing\, modified chainsawing\, log rolling and lots of clean family humor.
URL:https://pikevilleky.gov/event-page/hillbilly-days-2023-lumberjack-show-5/
CATEGORIES:Pikeville Tourism,Southeast Kentucky Chamber
ATTACH;FMTTYPE=image/jpeg:https://eadn-wc01-5677225.nxedge.io/wp-content/uploads/2023/04/lumberjack-1.jpeg
END:VEVENT
BEGIN:VEVENT
DTSTART;TZID=America/Kentucky/Louisville:20230421T180000
DTEND;TZID=America/Kentucky/Louisville:20230421T190000
DTSTAMP:20260419T141233
CREATED:20230418T173212Z
LAST-MODIFIED:20230418T173212Z
UID:10002949-1682100000-1682103600@pikevilleky.gov
SUMMARY:Hillbilly Days 2023 Lumberjack Show
DESCRIPTION:The great Lakes Lumberjack show features chainsaw carving\, axe throwing\, wood chopping\, one and two man cross-cut sawing\, modified chainsawing\, log rolling and lots of clean family humor.
URL:https://pikevilleky.gov/event-page/hillbilly-days-2023-lumberjack-show-4/
CATEGORIES:Pikeville Tourism,Southeast Kentucky Chamber
ATTACH;FMTTYPE=image/jpeg:https://eadn-wc01-5677225.nxedge.io/wp-content/uploads/2023/04/lumberjack-2.jpeg
END:VEVENT
BEGIN:VEVENT
DTSTART;TZID=America/Kentucky/Louisville:20230421T190000
DTEND;TZID=America/Kentucky/Louisville:20230421T210000
DTSTAMP:20260419T141233
CREATED:20230313T155835Z
LAST-MODIFIED:20230313T155835Z
UID:10002836-1682103600-1682110800@pikevilleky.gov
SUMMARY:Micro Wrestling
DESCRIPTION:Visit the Community Trust Bank Box Office or Ticketmaster.com\nTickets are $19\, $26\, and $39
URL:https://pikevilleky.gov/event-page/micro-wrestling/
CATEGORIES:Appalachian Wireless Arena
ATTACH;FMTTYPE=image/jpeg:https://eadn-wc01-5677225.nxedge.io/wp-content/uploads/2023/03/micro-wrestling.jpeg
END:VEVENT
BEGIN:VEVENT
DTSTART;TZID=America/Kentucky/Louisville:20230422T080000
DTEND;TZID=America/Kentucky/Louisville:20230422T230000
DTSTAMP:20260419T141233
CREATED:20230116T184705Z
LAST-MODIFIED:20230116T184705Z
UID:10002675-1682150400-1682204400@pikevilleky.gov
SUMMARY:2023 Hillbilly Days Run for the Kids 5K/10K
DESCRIPTION:Howdy Friends! Ya’ll can run fer the kids and donate to the Shriner’s Children’s Hospital this year! All you gotta do is choose the 5K or 10K distance and get’r dun! Join us in beautiful downtown Pikeville at the Pikeville City Park\, the epicenter of Hillbilly Days. Each participant will receive a t-shirt or tank top and an awesome medal. Also\, we are partnering with Pauley Hollow this year to have a FREE shot of moonshine at the finish line and large jars of the 2023 special edition moonshine available for purchase. The race WILL be timed this year so hit the pavement at a nice and easy pace and run yer hiney off! \nWe will be offering the kids fun run (it’s free) and the 2 mile walk for 2021. \nFeel free to send any questions or suggestions to our FaceBook Page\, Hillbilly Days Run for the Kids.
URL:https://pikevilleky.gov/event-page/2023-hillbilly-days-run-for-the-kids-5k-10k/
CATEGORIES:Other
ATTACH;FMTTYPE=image/png:https://eadn-wc01-5677225.nxedge.io/wp-content/uploads/2023/01/race30323-logo.bIlINJ.png
END:VEVENT
BEGIN:VEVENT
DTSTART;TZID=America/Kentucky/Louisville:20230422T110000
DTEND;TZID=America/Kentucky/Louisville:20230422T120000
DTSTAMP:20260419T141233
CREATED:20230418T173138Z
LAST-MODIFIED:20230418T173138Z
UID:10002950-1682161200-1682164800@pikevilleky.gov
SUMMARY:Hillbilly Days 2023 Lumberjack Show
DESCRIPTION:The great Lakes Lumberjack show features chainsaw carving\, axe throwing\, wood chopping\, one and two man cross-cut sawing\, modified chainsawing\, log rolling and lots of clean family humor.
URL:https://pikevilleky.gov/event-page/hillbilly-days-2023-lumberjack-show-3/
CATEGORIES:Pikeville Tourism,Southeast Kentucky Chamber
ATTACH;FMTTYPE=image/jpeg:https://eadn-wc01-5677225.nxedge.io/wp-content/uploads/2023/04/lumberjack-3.jpeg
END:VEVENT
BEGIN:VEVENT
DTSTART;TZID=America/Kentucky/Louisville:20230422T114500
DTEND;TZID=America/Kentucky/Louisville:20230422T174500
DTSTAMP:20260419T141233
CREATED:20230306T181654Z
LAST-MODIFIED:20230306T181654Z
UID:10002816-1682163900-1682185500@pikevilleky.gov
SUMMARY:Hillbilly Days music at the Mountain Top Media stage
DESCRIPTION:We’re getting excited for another great year of Hillbilly Days music at the Mountain Top Media stage thanks to our friends at BT Media Group.\n#visitpikeville\n#hillbillydays2023\n#BtMediaGroup
URL:https://pikevilleky.gov/event-page/hillbilly-days-music-at-the-mountain-top-media-stage/
CATEGORIES:Mountain Top Media,Pikeville Tourism
ATTACH;FMTTYPE=image/jpeg:https://eadn-wc01-5677225.nxedge.io/wp-content/uploads/2023/03/hillbillydays-mountain-top-2.jpeg
END:VEVENT
BEGIN:VEVENT
DTSTART;TZID=America/Kentucky/Louisville:20230422T130000
DTEND;TZID=America/Kentucky/Louisville:20230422T140000
DTSTAMP:20260419T141233
CREATED:20230418T173050Z
LAST-MODIFIED:20230418T173050Z
UID:10002951-1682168400-1682172000@pikevilleky.gov
SUMMARY:Hillbilly Days 2023 Lumberjack Show
DESCRIPTION:The great Lakes Lumberjack show features chainsaw carving\, axe throwing\, wood chopping\, one and two man cross-cut sawing\, modified chainsawing\, log rolling and lots of clean family humor.
URL:https://pikevilleky.gov/event-page/hillbilly-days-2023-lumberjack-show-2/
CATEGORIES:Pikeville Tourism,Southeast Kentucky Chamber
ATTACH;FMTTYPE=image/jpeg:https://eadn-wc01-5677225.nxedge.io/wp-content/uploads/2023/04/lumberjack-4.jpeg
END:VEVENT
BEGIN:VEVENT
DTSTART;TZID=America/Kentucky/Louisville:20230422T160000
DTEND;TZID=America/Kentucky/Louisville:20230422T170000
DTSTAMP:20260419T141233
CREATED:20230418T172942Z
LAST-MODIFIED:20230418T172942Z
UID:10002952-1682179200-1682182800@pikevilleky.gov
SUMMARY:Hillbilly Days 2023 Lumberjack Show
DESCRIPTION:The great Lakes Lumberjack show features chainsaw carving\, axe throwing\, wood chopping\, one and two man cross-cut sawing\, modified chainsawing\, log rolling and lots of clean family humor.
URL:https://pikevilleky.gov/event-page/hillbilly-days-2023-lumberjack-show/
CATEGORIES:Pikeville Tourism,Southeast Kentucky Chamber
ATTACH;FMTTYPE=image/jpeg:https://eadn-wc01-5677225.nxedge.io/wp-content/uploads/2023/04/lumberjack-5.jpeg
END:VEVENT
BEGIN:VEVENT
DTSTART;TZID=America/Kentucky/Louisville:20230422T190000
DTEND;TZID=America/Kentucky/Louisville:20230422T230000
DTSTAMP:20260419T141233
CREATED:20230418T172853Z
LAST-MODIFIED:20230418T172853Z
UID:10002953-1682190000-1682204400@pikevilleky.gov
SUMMARY:A Laid Back Hillbilly Night
DESCRIPTION:Join Luna and the Mountain Jets\nBek and the Starlight Review\nAnd Laid Back and Honey\n7-11pm\nDowntown Pikeville during Hillbilly Days on Saturday April 22.\nShow is $10 at the door at the Appalachian Center for the Arts.\nThere will be a cash bar. Catch your breath and relax after a full day of Hillbilly Madness and Funnel Cakes.
URL:https://pikevilleky.gov/event-page/a-laid-back-hillbilly-night/
CATEGORIES:The Appalachian Center for the Arts
ATTACH;FMTTYPE=image/jpeg:https://eadn-wc01-5677225.nxedge.io/wp-content/uploads/2023/04/laid-back.jpeg
END:VEVENT
END:VCALENDAR