BEGIN:VCALENDAR
VERSION:2.0
PRODID:-//City of Pikeville, KY - ECPv6.15.20//NONSGML v1.0//EN
CALSCALE:GREGORIAN
METHOD:PUBLISH
X-ORIGINAL-URL:https://pikevilleky.gov
X-WR-CALDESC:Events for City of Pikeville, KY
REFRESH-INTERVAL;VALUE=DURATION:PT1H
X-Robots-Tag:noindex
X-PUBLISHED-TTL:PT1H
BEGIN:VTIMEZONE
TZID:America/Kentucky/Louisville
BEGIN:DAYLIGHT
TZOFFSETFROM:-0500
TZOFFSETTO:-0400
TZNAME:EDT
DTSTART:20200308T070000
END:DAYLIGHT
BEGIN:STANDARD
TZOFFSETFROM:-0400
TZOFFSETTO:-0500
TZNAME:EST
DTSTART:20201101T060000
END:STANDARD
BEGIN:DAYLIGHT
TZOFFSETFROM:-0500
TZOFFSETTO:-0400
TZNAME:EDT
DTSTART:20210314T070000
END:DAYLIGHT
BEGIN:STANDARD
TZOFFSETFROM:-0400
TZOFFSETTO:-0500
TZNAME:EST
DTSTART:20211107T060000
END:STANDARD
BEGIN:DAYLIGHT
TZOFFSETFROM:-0500
TZOFFSETTO:-0400
TZNAME:EDT
DTSTART:20220313T070000
END:DAYLIGHT
BEGIN:STANDARD
TZOFFSETFROM:-0400
TZOFFSETTO:-0500
TZNAME:EST
DTSTART:20221106T060000
END:STANDARD
END:VTIMEZONE
BEGIN:VEVENT
DTSTART;VALUE=DATE:20210410
DTEND;VALUE=DATE:20210912
DTSTAMP:20260419T080044
CREATED:20210723T191359Z
LAST-MODIFIED:20210802T184759Z
UID:10001218-1618012800-1631404799@pikevilleky.gov
SUMMARY:The World of Jesus
DESCRIPTION:How Art\, Archeology and Artifacts illuminate the first century.
URL:https://pikevilleky.gov/event-page/the-world-of-jesus/
LOCATION:KY
CATEGORIES:The Appalachian Center for the Arts
ATTACH;FMTTYPE=image/png:https://eadn-wc01-5677225.nxedge.io/wp-content/uploads/2021/07/Screen-Shot-2021-02-15-at-11.18.04-AM.png
END:VEVENT
BEGIN:VEVENT
DTSTART;TZID=America/Kentucky/Louisville:20210901T120000
DTEND;TZID=America/Kentucky/Louisville:20210901T130000
DTSTAMP:20260419T080044
CREATED:20210810T121353Z
LAST-MODIFIED:20210810T121353Z
UID:10001360-1630497600-1630501200@pikevilleky.gov
SUMMARY:2021 Membership Luncheon with Mitch McConnell
DESCRIPTION:Join us for a joint Membership Luncheon with the Pikeville Rotary Club featuring U.S. Senate Minority Leader Mitch McConnell.\n$20 for Chamber Members\nEvent is only open for Southeast Kentucky Chamber & Pikeville Rotary Club members and their guests.
URL:https://pikevilleky.gov/event-page/2021-membership-luncheon-with-mitch-mcconnell/
LOCATION:KY
CATEGORIES:Appalachian Wireless Arena,Southeast Kentucky Chamber
ATTACH;FMTTYPE=image/jpeg:https://eadn-wc01-5677225.nxedge.io/wp-content/uploads/2021/08/McConnell2021.jpeg
END:VEVENT
BEGIN:VEVENT
DTSTART;TZID=America/Kentucky/Louisville:20210901T140000
DTEND;TZID=America/Kentucky/Louisville:20210901T150000
DTSTAMP:20260419T080044
CREATED:20210727T150006Z
LAST-MODIFIED:20210727T150052Z
UID:10001246-1630504800-1630508400@pikevilleky.gov
SUMMARY:Men’s Soccer vs Milligan University
DESCRIPTION:Game Day!!
URL:https://pikevilleky.gov/event-page/mens-soccer-vs-milligan-university/
LOCATION:KY
CATEGORIES:UPike
ATTACH;FMTTYPE=image/png:https://eadn-wc01-5677225.nxedge.io/wp-content/uploads/2021/07/Screen-Shot-2021-07-26-at-10.50.43-AM.png
END:VEVENT
BEGIN:VEVENT
DTSTART;TZID=America/Kentucky/Louisville:20210901T163000
DTEND;TZID=America/Kentucky/Louisville:20210901T173000
DTSTAMP:20260419T080044
CREATED:20210727T150006Z
LAST-MODIFIED:20210727T150052Z
UID:10001244-1630513800-1630517400@pikevilleky.gov
SUMMARY:Women’s Soccer vs Milligan University
DESCRIPTION:Game Day!!
URL:https://pikevilleky.gov/event-page/womens-soccer-vs-milligan-university/
LOCATION:KY
CATEGORIES:UPike
ATTACH;FMTTYPE=image/png:https://eadn-wc01-5677225.nxedge.io/wp-content/uploads/2021/07/Screen-Shot-2021-07-26-at-10.57.56-AM.png
END:VEVENT
END:VCALENDAR